BEGIN:VCALENDAR
VERSION:2.0
PRODID:-//baptistleader - ECPv6.15.13//NONSGML v1.0//EN
CALSCALE:GREGORIAN
METHOD:PUBLISH
X-ORIGINAL-URL:https://baptistleader.org
X-WR-CALDESC:Events for baptistleader
REFRESH-INTERVAL;VALUE=DURATION:PT1H
X-Robots-Tag:noindex
X-PUBLISHED-TTL:PT1H
BEGIN:VTIMEZONE
TZID:America/Chicago
BEGIN:DAYLIGHT
TZOFFSETFROM:-0600
TZOFFSETTO:-0500
TZNAME:CDT
DTSTART:20120311T080000
END:DAYLIGHT
BEGIN:STANDARD
TZOFFSETFROM:-0500
TZOFFSETTO:-0600
TZNAME:CST
DTSTART:20121104T070000
END:STANDARD
BEGIN:DAYLIGHT
TZOFFSETFROM:-0600
TZOFFSETTO:-0500
TZNAME:CDT
DTSTART:20130310T080000
END:DAYLIGHT
BEGIN:STANDARD
TZOFFSETFROM:-0500
TZOFFSETTO:-0600
TZNAME:CST
DTSTART:20131103T070000
END:STANDARD
BEGIN:DAYLIGHT
TZOFFSETFROM:-0600
TZOFFSETTO:-0500
TZNAME:CDT
DTSTART:20140309T080000
END:DAYLIGHT
BEGIN:STANDARD
TZOFFSETFROM:-0500
TZOFFSETTO:-0600
TZNAME:CST
DTSTART:20141102T070000
END:STANDARD
BEGIN:DAYLIGHT
TZOFFSETFROM:-0600
TZOFFSETTO:-0500
TZNAME:CDT
DTSTART:20150308T080000
END:DAYLIGHT
BEGIN:STANDARD
TZOFFSETFROM:-0500
TZOFFSETTO:-0600
TZNAME:CST
DTSTART:20151101T070000
END:STANDARD
BEGIN:DAYLIGHT
TZOFFSETFROM:-0600
TZOFFSETTO:-0500
TZNAME:CDT
DTSTART:20160313T080000
END:DAYLIGHT
BEGIN:STANDARD
TZOFFSETFROM:-0500
TZOFFSETTO:-0600
TZNAME:CST
DTSTART:20161106T070000
END:STANDARD
BEGIN:DAYLIGHT
TZOFFSETFROM:-0600
TZOFFSETTO:-0500
TZNAME:CDT
DTSTART:20170312T080000
END:DAYLIGHT
BEGIN:STANDARD
TZOFFSETFROM:-0500
TZOFFSETTO:-0600
TZNAME:CST
DTSTART:20171105T070000
END:STANDARD
BEGIN:DAYLIGHT
TZOFFSETFROM:-0600
TZOFFSETTO:-0500
TZNAME:CDT
DTSTART:20180311T080000
END:DAYLIGHT
BEGIN:STANDARD
TZOFFSETFROM:-0500
TZOFFSETTO:-0600
TZNAME:CST
DTSTART:20181104T070000
END:STANDARD
BEGIN:DAYLIGHT
TZOFFSETFROM:-0600
TZOFFSETTO:-0500
TZNAME:CDT
DTSTART:20190310T080000
END:DAYLIGHT
BEGIN:STANDARD
TZOFFSETFROM:-0500
TZOFFSETTO:-0600
TZNAME:CST
DTSTART:20191103T070000
END:STANDARD
BEGIN:DAYLIGHT
TZOFFSETFROM:-0600
TZOFFSETTO:-0500
TZNAME:CDT
DTSTART:20200308T080000
END:DAYLIGHT
BEGIN:STANDARD
TZOFFSETFROM:-0500
TZOFFSETTO:-0600
TZNAME:CST
DTSTART:20201101T070000
END:STANDARD
BEGIN:DAYLIGHT
TZOFFSETFROM:-0600
TZOFFSETTO:-0500
TZNAME:CDT
DTSTART:20210314T080000
END:DAYLIGHT
BEGIN:STANDARD
TZOFFSETFROM:-0500
TZOFFSETTO:-0600
TZNAME:CST
DTSTART:20211107T070000
END:STANDARD
BEGIN:DAYLIGHT
TZOFFSETFROM:-0600
TZOFFSETTO:-0500
TZNAME:CDT
DTSTART:20220313T080000
END:DAYLIGHT
BEGIN:STANDARD
TZOFFSETFROM:-0500
TZOFFSETTO:-0600
TZNAME:CST
DTSTART:20221106T070000
END:STANDARD
BEGIN:DAYLIGHT
TZOFFSETFROM:-0600
TZOFFSETTO:-0500
TZNAME:CDT
DTSTART:20230312T080000
END:DAYLIGHT
BEGIN:STANDARD
TZOFFSETFROM:-0500
TZOFFSETTO:-0600
TZNAME:CST
DTSTART:20231105T070000
END:STANDARD
BEGIN:DAYLIGHT
TZOFFSETFROM:-0600
TZOFFSETTO:-0500
TZNAME:CDT
DTSTART:20240310T080000
END:DAYLIGHT
BEGIN:STANDARD
TZOFFSETFROM:-0500
TZOFFSETTO:-0600
TZNAME:CST
DTSTART:20241103T070000
END:STANDARD
BEGIN:DAYLIGHT
TZOFFSETFROM:-0600
TZOFFSETTO:-0500
TZNAME:CDT
DTSTART:20250309T080000
END:DAYLIGHT
BEGIN:STANDARD
TZOFFSETFROM:-0500
TZOFFSETTO:-0600
TZNAME:CST
DTSTART:20251102T070000
END:STANDARD
END:VTIMEZONE
BEGIN:VEVENT
DTSTART;TZID=America/Chicago:20240919T163000
DTEND;TZID=America/Chicago:20240919T193000
DTSTAMP:20260420T080037
CREATED:20240905T232006Z
LAST-MODIFIED:20240905T232006Z
UID:10012822-1726763400-1726774200@baptistleader.org
SUMMARY:Baptist to Host Community Mental Health and Wellness Expo
DESCRIPTION:Baptist Memorial Health Care\, Shelby County Government and cityCURRENT will host a free community mental health and wellness expo and reception\, followed by a conversation with Dr. Joy Harden Bradford on Thursday\, Sept. 19 from 4:30 p.m. to 7 p.m. in Garrett Auditorium on Baptist Memorial Hospital-Memphis’ campus. Dr. Bradford is a licensed psychologist\, author and host of the podcast “Therapy for Black Girls.” Please click here to register for the Sept. 19 event. Dr. Bradford will also be the keynote speaker at the virtual cityCURRENT Signature Speaker Series on Friday\, Sept. 20. Click here to register for the Sept. 20 event.
URL:https://baptistleader.org/event/baptist-to-host-community-mental-health-and-wellness-expo/
LOCATION:Dr. H. Edward Garrett\, Sr. Auditorium at Baptist Memorial Hospital-Memphis\, 6027 Walnut Grove Rd.\, Memphis\, TN\, 38120\, United States
CATEGORIES:Wellness
END:VEVENT
BEGIN:VEVENT
DTSTART;TZID=America/Chicago:20190919T123000
DTEND;TZID=America/Chicago:20190919T140000
DTSTAMP:20260420T080037
CREATED:20190903T200032Z
LAST-MODIFIED:20190909T232652Z
UID:10012662-1568896200-1568901600@baptistleader.org
SUMMARY:Join us for an evening with hilarious podcast host and author Nora McInerny
DESCRIPTION:Nora McInerny will join the executive director of the Baptist Centers for Good Grief for an honest conversation about the realities of surviving life’s toughest situations. McInerny has experienced her own share of challenges — including having a miscarriage and losing her dad and husband within six weeks in the fall of 2014. Since then\, she has remarried\, had her second child\, written three books and started a charity in her deceased husband’s honor. She also hosts the American Public Media podcast\, “Terrible\, Thanks for Asking.” McInerny’s heartfelt and real approach to life’s struggles will leave you feeling supported\, inspired and hopeful. \nRegister online at http://bpt.st/2lA5Nka or call 901-227-3519 for more information. \ncityCURRENT Signature Speaker Reception Featuring Nora McInerny\, Grief Expert & Hilarious Podcast Host & Author \nThursday\, Sept. 19\, 2019\n5:30–7 p.m.\nBaptist Memorial Hospital-Memphis Campus\nDr. H. Edward Garrett Sr. Auditorium\n6027 Walnut Grove Road\nMemphis\, TN 38120
URL:https://baptistleader.org/event/join-us-for-an-evening-with-hilarious-podcast-host-and-author-nora-mcinerny/
LOCATION:Dr. H. Edward Garrett\, Sr. Auditorium at Baptist Memorial Hospital-Memphis\, 6027 Walnut Grove Rd.\, Memphis\, TN\, 38120\, United States
CATEGORIES:Educational Session
END:VEVENT
BEGIN:VEVENT
DTSTART;TZID=America/Chicago:20180428T030000
DTEND;TZID=America/Chicago:20180428T080000
DTSTAMP:20260420T080037
CREATED:20180419T004228Z
LAST-MODIFIED:20180419T004558Z
UID:10012556-1524884400-1524902400@baptistleader.org
SUMMARY:Black Men in White Coats Youth Summit
DESCRIPTION:Saturday\, April 28\n8 a.m. – 1 p.m.\nDr. H. Edward Garrett Sr. Auditorium (on the Baptist Memorial Hospital-Memphis campus)\n6027 Walnut Grove Road\, Memphis\, TN 38120\nThis event is free and open to the general public. \nRegister here: https://www.baptistonline.org/events/black-men-in-white-coats \nBaptist Memorial Health Care and the University of Tennessee Health Science Center are pleased to present Black Men in White Coats. This half-day program will feature guest speaker and founder of the Black Men in White Coats Video Series and mentoring program\, Dr. Dale Okorodudu. \nIn 2011\, Dr. Okorodudu collaborated with Duke University School of Medicine to start the Black Men in White Coats Video Series and mentoring program. The goal of the program was to inspire underrepresented minority students to consider medical careers and to increase ethnic and socioeconomic diversity in the field of medicine. \nA 2014 Association of American Medical Colleges report confirmed the need for a program like this as the number of African-American males applying to medical school has dropped since 1978. In fact\, today\, less than 4 percent of practicing physicians are black. The study also identified factors that could contribute to this decline. Some of these included early education\, community members and influences\, and perceptions and images of African-American men. \nThe Black Men in White Coats half-day program will feature an opportunity for African-American male students to: \n\nHear Dr. Okorodudu’s inspiring story\nMeet local Black Men and students in White Coats\nGet information and assistance pursuing a healthcare career\n\nProgram Partners \n\nBaptist Health Sciences University\nUniversity of TN Health Science Center\nBluff City Medical Society\nBluff City Medical and Pharmaceutical Auxiliary\nNAACP Memphis Branch\nNational Association of Health Services Executives\nNational Civil Rights Museum
URL:https://baptistleader.org/event/black-men-white-coats-youth-summit/
LOCATION:Dr. H. Edward Garrett\, Sr. Auditorium at Baptist Memorial Hospital-Memphis\, 6027 Walnut Grove Rd.\, Memphis\, TN\, 38120\, United States
CATEGORIES:Seminar,Wellness
END:VEVENT
BEGIN:VEVENT
DTSTART;VALUE=DATE:20151113
DTEND;VALUE=DATE:20151115
DTSTAMP:20260420T080037
CREATED:20151029T195323Z
LAST-MODIFIED:20151029T195323Z
UID:10012346-1447372800-1447545599@baptistleader.org
SUMMARY:Mid-South Cancer Symposium
DESCRIPTION:Baptist Cancer Center and Baptist Center for Education & Organizational Development will host the 13th annual Mid-South Cancer Symposium on Nov. 13-14 at the Dr. H. Edward Garrett\, Sr. Auditorium on the Baptist Memphis campus. \nContinuing medical education\, continuing pharmacy education and continuing nursing education credit will be offered for attending the symposium. Also\, ASRT will be awarding credits for ARRT-registered individuals who attend the symposium. \nThere will also be a free session open to the public on Friday\, Nov. 13 from 5:30-7:30 p.m. at the Dr. H. Edward Garrett\, Sr. Auditorium on the Baptist Memphis campus. At this event\, leading cancer specialists will discuss genetics\, environment and other factors that affect cancer patients’ well-being. All attendees can enjoy light refreshments and will receive a giveaway. \nFor more information or to attend the symposium\, please click here.
URL:https://baptistleader.org/event/mid-south-cancer-symposium/
LOCATION:Dr. H. Edward Garrett\, Sr. Auditorium at Baptist Memorial Hospital-Memphis\, 6027 Walnut Grove Rd.\, Memphis\, TN\, 38120\, United States
CATEGORIES:Seminar
END:VEVENT
BEGIN:VEVENT
DTSTART;TZID=America/Chicago:20140219T053000
DTEND;TZID=America/Chicago:20140219T070000
DTSTAMP:20260420T080037
CREATED:20140205T220206Z
LAST-MODIFIED:20140205T220206Z
UID:10012056-1392787800-1392793200@baptistleader.org
SUMMARY:Spiritual Treasures-Reverend Kenneth Robinson\, M.D.
DESCRIPTION:You are invited to join us for our faith-oriented speaker series at Baptist Memorial Health Care. \nWednesday\, February 19\, 2014\n11:30 am – 1:00 pm\n Dr. H. Edward Garrett\, Sr. Auditorium\n 6027 Walnut Grove Road \nReverend Kenneth Robinson\, M.D.\nPastor and Chief Executive of St. Andrew AME Church \nRegistration is required.\nTo register\, visit http://bpt.st/1iqsomR.\nFor additional information call 901.227.7123. \n*All Spiritual Treasures events are held in\nthe Dr. H. Edward Garrett\, Sr. Auditorium.
URL:https://baptistleader.org/event/spiritual-treasures-reverend-kenneth-robinson-m-d/
LOCATION:Dr. H. Edward Garrett\, Sr. Auditorium at Baptist Memorial Hospital-Memphis\, 6027 Walnut Grove Rd.\, Memphis\, TN\, 38120\, United States
CATEGORIES:Seminar
ATTACH;FMTTYPE=:
END:VEVENT
BEGIN:VEVENT
DTSTART;TZID=America/Chicago:20130517T023000
DTEND;TZID=America/Chicago:20130517T104500
DTSTAMP:20260420T080037
CREATED:20130416T205357Z
LAST-MODIFIED:20130416T205357Z
UID:10012014-1368757800-1368787500@baptistleader.org
SUMMARY:Exciting New Trends in Diabetes
DESCRIPTION:The Baptist Memorial Health Care Spring Diabetes Seminar titled “Exciting New Trends in Diabetes\,” will be Friday\, May 17 at the Dr. H. Edward Garrett\, Sr. Auditorium at Baptist Memorial Hospital-Memphis from 7:30 a.m. to 3:45 p.m. \nThe purpose is to disseminate information on the dynamic changes in the understanding of causes and therapies for the treatment of type 2 diabetes. This activity will be offering CME\, CNE\, CPE\, CEU and CDR credit. \nFor more information and to register\, visit www.baptistonline.org/diabetes-trends.
URL:https://baptistleader.org/event/exciting-new-trends-in-diabetes/
LOCATION:Dr. H. Edward Garrett\, Sr. Auditorium at Baptist Memorial Hospital-Memphis\, 6027 Walnut Grove Rd.\, Memphis\, TN\, 38120\, United States
CATEGORIES:Seminar
END:VEVENT
END:VCALENDAR